BEGIN:VCALENDAR
VERSION:2.0
PRODID:-//Dr. Klaus Ritter - ECPv6.15.20//NONSGML v1.0//EN
CALSCALE:GREGORIAN
METHOD:PUBLISH
X-WR-CALNAME:Dr. Klaus Ritter
X-ORIGINAL-URL:https://klausritter.de
X-WR-CALDESC:Veranstaltungen für Dr. Klaus Ritter
REFRESH-INTERVAL;VALUE=DURATION:PT1H
X-Robots-Tag:noindex
X-PUBLISHED-TTL:PT1H
BEGIN:VTIMEZONE
TZID:Europe/Berlin
BEGIN:DAYLIGHT
TZOFFSETFROM:+0100
TZOFFSETTO:+0200
TZNAME:CEST
DTSTART:20250330T010000
END:DAYLIGHT
BEGIN:STANDARD
TZOFFSETFROM:+0200
TZOFFSETTO:+0100
TZNAME:CET
DTSTART:20251026T010000
END:STANDARD
BEGIN:DAYLIGHT
TZOFFSETFROM:+0100
TZOFFSETTO:+0200
TZNAME:CEST
DTSTART:20260329T010000
END:DAYLIGHT
BEGIN:STANDARD
TZOFFSETFROM:+0200
TZOFFSETTO:+0100
TZNAME:CET
DTSTART:20261025T010000
END:STANDARD
BEGIN:DAYLIGHT
TZOFFSETFROM:+0100
TZOFFSETTO:+0200
TZNAME:CEST
DTSTART:20270328T010000
END:DAYLIGHT
BEGIN:STANDARD
TZOFFSETFROM:+0200
TZOFFSETTO:+0100
TZNAME:CET
DTSTART:20271031T010000
END:STANDARD
END:VTIMEZONE
BEGIN:VEVENT
DTSTART;TZID=Europe/Berlin:20260520T090000
DTEND;TZID=Europe/Berlin:20260520T123000
DTSTAMP:20260419T140613
CREATED:20240217T175413Z
LAST-MODIFIED:20260322T140107Z
UID:1182-1779267600-1779280200@klausritter.de
SUMMARY:EXCELTipps & Tricks
DESCRIPTION:Sie arbeiten bereits mit Excel\, kennen die grundlegenden Funktionen und würden gerne noch effektiver mit dem Programm arbeiten. In dem Online-Workshop bekommen Sie Tipps und Tricks gezeigt\, mit denen Sie Aufgaben in Excel effektiver lösen können. Alles wird Schritt für Schritt erklärt und Sie probieren es an ihrem Computer gleich aus. \nUm diese Themen geht es u. a.: \n\nSo werden Tabellenbereiche intelligent\nLeicht zu merken: Namen verwenden\, statt Zellbezüge\nFehler vermeiden durch Eingabekontrollen\nRechnen mit Datums- und Zeitangaben\nEine Menge nützlicher Excel-Funktionen (Anzahl\, Rang\, Runden\, SVerweis\, Zinsrechnungen …)\nExterne Daten mit Power Query für Excel aufbereiten\nMit Pivot-Tabellen große Datenmengen schnell überblicken\nDie Fehlerkontrolle und wie ich mir Spuren anzeigen lassen kann\n\n \nLeitung: Dr. Klaus Ritter\n__________________ \nWorkshop am 20.05.2026 \nWorkshop am 29.09.2026 \n\nder Fortbildung-Akademie
URL:https://klausritter.de/event/exceltipps-tricks-2/
LOCATION:Online-Workshop
ATTACH;FMTTYPE=image/x-png:https://klausritter.de/wp-content/uploads/2025/10/New_IT_Excel_Tipps.png
ORGANIZER;CN="Fortbildungs-Akademie des Deutschen Caritasverbandes":MAILTO:akademie@caritas.de
END:VEVENT
END:VCALENDAR