BEGIN:VCALENDAR
VERSION:2.0
PRODID:-//Dr. Klaus Ritter - ECPv6.15.20//NONSGML v1.0//EN
CALSCALE:GREGORIAN
METHOD:PUBLISH
X-WR-CALNAME:Dr. Klaus Ritter
X-ORIGINAL-URL:https://klausritter.de
X-WR-CALDESC:Veranstaltungen für Dr. Klaus Ritter
REFRESH-INTERVAL;VALUE=DURATION:PT1H
X-Robots-Tag:noindex
X-PUBLISHED-TTL:PT1H
BEGIN:VTIMEZONE
TZID:Europe/Berlin
BEGIN:DAYLIGHT
TZOFFSETFROM:+0100
TZOFFSETTO:+0200
TZNAME:CEST
DTSTART:20250330T010000
END:DAYLIGHT
BEGIN:STANDARD
TZOFFSETFROM:+0200
TZOFFSETTO:+0100
TZNAME:CET
DTSTART:20251026T010000
END:STANDARD
BEGIN:DAYLIGHT
TZOFFSETFROM:+0100
TZOFFSETTO:+0200
TZNAME:CEST
DTSTART:20260329T010000
END:DAYLIGHT
BEGIN:STANDARD
TZOFFSETFROM:+0200
TZOFFSETTO:+0100
TZNAME:CET
DTSTART:20261025T010000
END:STANDARD
BEGIN:DAYLIGHT
TZOFFSETFROM:+0100
TZOFFSETTO:+0200
TZNAME:CEST
DTSTART:20270328T010000
END:DAYLIGHT
BEGIN:STANDARD
TZOFFSETFROM:+0200
TZOFFSETTO:+0100
TZNAME:CET
DTSTART:20271031T010000
END:STANDARD
END:VTIMEZONE
BEGIN:VEVENT
DTSTART;TZID=Europe/Berlin:20260619T160000
DTEND;TZID=Europe/Berlin:20260621T130000
DTSTAMP:20260419T164809
CREATED:20240627T150012Z
LAST-MODIFIED:20260415T124728Z
UID:1436-1781884800-1782046800@klausritter.de
SUMMARY:Ene\, mene\, mu … Wie entscheidest Du?
DESCRIPTION:19. – 21. Juni 2026\,\nHaus St. Benedikt\, Freiburg-Günterstal\nTäglich treffen wir Entscheidungen – manche beiläufig\, andere mit großer Tragweite. Ob im beruflichen Kontext oder im privaten Alltag: Unsere Fähigkeit\, bewusst zu entscheiden\, beeinflusst\, wie wir unsere Kräfte einsetzen und in Beziehung mit anderen treten. \nEntscheidungskompetenz beginnt mit einer differenzierten Wahrnehmung von Situationen\, dem Erkennen von Handlungsoptionen und der Einschätzung ihrer Folgen. Doch sie erfordert oft auch Mut – und Vertrauen in sich selbst und den Lauf der Dinge. \nIn unserem Kurs stärken wir die Wahrnehmungs- und Handlungskompetenz mit alltagsnahen Übungen und theoretischem Hintergrundwissen. Impulse aus Neurobiologie\, Psychologie und spirituellen Traditionen eröffnen einen Zugang zur eigenen inneren Tiefe und erweitern die Perspektive für anstehende Entscheidungen. \nDie Themenzentrierte Interaktion (TZI) schärft unser Wertebewusstsein\, um Entscheidungen klarer und fundierter zu treffen – im Einklang mit mir selbst und im Dialog mit anderen. \nLeitung\nSibylle Ratsch\nDipl.-Päd.\, Supervisorin (DGSv)\,\nTZI-Lehrbeauftragte Ruth-Cohn-Institut International \nDr. Klaus Ritter\nTheologe\, freiberuflicher Dozent\, Moderator\, zertifizierter Mediator und Organisationsberater\,\nTZI-Lehrbeauftragter Ruth-Cohn-Institut International \n___________________________________________________ \nAnmeldung\nEne\, mene\, mu … wie entscheidest Du? Kräfte bündeln\, authentisch handeln\n19.06.\, 16:00 Uhr bis 21. 06.2026 im Haus St. Benedikt\, Freiburg-Günterstal \nSeminargebühr: 350 EUR (wir möchten\, dass alle teilnehmen können – bei Bedarf ist eine Ermäßigung bis 100 EUR möglich)\nÜbernachtung und Vollverpflegung: ca. 80 – 90 EUR/Tag \n\n\n  \n\n\n\nin Präsenz\n \n\nAnrede\nBitte wählenFrauHerrDiversKeine Angabe\n \n\nTitel\n\n \n\nVorname *\n\n \n\nNachname *\n\n \n\nStraße und Hausnummer *\n\n \n\nPostleitzahl *\n\n \n\nOrt *\n\n \n\nLand\nBitte wählenDeutschlandSchweizÖsterreich\n \n\nOrganisation\n\n \n\nFunktion / Rolle\n\n \n\nE-Mail-Adresse *\n\n \n\nTelefon *\n\n \n\nGeburtsdatum *\n\n \n\nNachricht\n\n \nÜbernachtung und Verpflegung\n\nIch möchte im Tagungshaus übernachten und essen (Einzelzimmer + Vollverpflegung)Ich möchte im Tagungshaus nur essen\, nicht übernachten (Verpflegung)\n \nFahrgemeinschaften\n\nOptional: Wenn Sie eine Fahrgemeinschaft bilden möchten\, können Sie der Weitergabe Ihrer Kontaktdaten an andere Teilnehmende zustimmen.\n \nIch bin damit einverstanden\, dass mein Name\, meine E-Mail-Adresse und mein Wohnort/meine PLZ zum Zweck der Bildung von Fahrgemeinschaften an andere Teilnehmende weitergegeben werden. Diese Einwilligung ist freiwillig und kann jederzeit mit Wirkung für die Zukunft widerrufen werden.\n \nDatenschutz\n\nIch habe die Datenschutzerklärung zur Kenntnis genommen und stimme der Verarbeitung meiner Angaben zur Bearbeitung meiner Anmeldung zu.\n \n       \n \n\n ×
URL:https://klausritter.de/event/entscheiden/
LOCATION:Haus St. Benedikt\, Freiburg-Günterstal\, Riedbergstraße 3\, Freiburg\, Baden-Württemberg\, 79100\, Germany
ATTACH;FMTTYPE=image/x-citrix-jpeg:https://klausritter.de/wp-content/uploads/2024/06/Ene_mene_mu.jpg
ORGANIZER;CN="Sibylle Ratsch":MAILTO:s.ratsch@katharina-werk.org
END:VEVENT
END:VCALENDAR