BEGIN:VCALENDAR
VERSION:2.0
PRODID:-//Dr. Klaus Ritter - ECPv6.15.20//NONSGML v1.0//EN
CALSCALE:GREGORIAN
METHOD:PUBLISH
X-WR-CALNAME:Dr. Klaus Ritter
X-ORIGINAL-URL:https://klausritter.de
X-WR-CALDESC:Veranstaltungen für Dr. Klaus Ritter
REFRESH-INTERVAL;VALUE=DURATION:PT1H
X-Robots-Tag:noindex
X-PUBLISHED-TTL:PT1H
BEGIN:VTIMEZONE
TZID:Europe/Berlin
BEGIN:DAYLIGHT
TZOFFSETFROM:+0100
TZOFFSETTO:+0200
TZNAME:CEST
DTSTART:20250330T010000
END:DAYLIGHT
BEGIN:STANDARD
TZOFFSETFROM:+0200
TZOFFSETTO:+0100
TZNAME:CET
DTSTART:20251026T010000
END:STANDARD
BEGIN:DAYLIGHT
TZOFFSETFROM:+0100
TZOFFSETTO:+0200
TZNAME:CEST
DTSTART:20260329T010000
END:DAYLIGHT
BEGIN:STANDARD
TZOFFSETFROM:+0200
TZOFFSETTO:+0100
TZNAME:CET
DTSTART:20261025T010000
END:STANDARD
BEGIN:DAYLIGHT
TZOFFSETFROM:+0100
TZOFFSETTO:+0200
TZNAME:CEST
DTSTART:20270328T010000
END:DAYLIGHT
BEGIN:STANDARD
TZOFFSETFROM:+0200
TZOFFSETTO:+0100
TZNAME:CET
DTSTART:20271031T010000
END:STANDARD
END:VTIMEZONE
BEGIN:VEVENT
DTSTART;TZID=Europe/Berlin:20260706T150000
DTEND;TZID=Europe/Berlin:20260708T123000
DTSTAMP:20260419T181720
CREATED:20250228T135948Z
LAST-MODIFIED:20260322T135957Z
UID:1696-1783350000-1783513800@klausritter.de
SUMMARY:Motivation stärken und Ziele erreichen
DESCRIPTION:06.07.2026\, 15:00 Uhr bis 08.07.2026\, 12:30 Uhr\,\nCaritas Tagungszentrum Freiburg\nFührungskräfte können Mitarbeitende nicht langfristig „motivieren“ – aber sie können Rahmenbedingungen schaffen\, in denen Motivation entstehen und wachsen kann. Besonders im Sozialbereich\, wo sinnstiftende Arbeit auf hohe Anforderungen trifft\, ist es entscheidend\, Motivation nicht als kurzfristigen Anreiz\, sondern als inneren Antrieb zu verstehen. Doch welche Faktoren beeinflussen diesen Antrieb? Und wie können Führungskräfte ein Umfeld gestalten\, in dem Mitarbeitende engagiert\, zielgerichtet und mit Freude arbeiten? \nIn diesem zweieinhalbtägigen Seminar erhalten Sie fundierte Einblicke in neuropsychologische Erkenntnisse zur Motivation und lernen praxisnahe Methoden kennen\, um Ihr Team auf eine Weise zu führen\, die nachhaltige Eigenmotivation unterstützt. \nInhalte des Seminars:\n\nEigene Motivatoren verstehen: Wie beeinflusst meine eigene Motivation mein Führungsverhalten?\nZieltypen und ihre Wirkung: Welche Ziele fördern Eigeninitiative und langfristiges Engagement?\nMotivation durch Sinn und Herausforderung: Warum sind herausfordernde Aufgaben und ein erlebter Sinn entscheidend für die Arbeitszufriedenheit?\nWechselwirkungen von Haltung und Verhalten:Wie beeinflussen meine Überzeugungen das Teamklima?\nStruktur und Kultur als Schlüssel: Wie lassen sich Rahmenbedingungen so gestalten\, dass Motivation wachsen kann?\nBeziehung als Motor der Motivation: Wie können Führungskräfte durch wertschätzende Kommunikation\, Klarheit und Vertrauen die Eigenmotivation der Mitarbeitenden stärken?\n\nDas Seminar kombiniert Theorie-Inputs mit interaktiven Formaten wie Fallarbeit\, Reflexionsübungen und Gruppenaufgaben. Sie erhalten praxisnahe Impulse\, um Motivation gezielt zu fördern und Ihre Führungskompetenz weiterzuentwickeln – mit einem Fokus auf die besonderen Herausforderungen und Chancen im Sozialbereich. \nFür wen?\nDas Seminar richtet sich an Führungskräfte\, Team- und Bereichsleitungen im Sozialbereich sowie an Personalverantwortliche\, Projektleitende und Beratende\, die nachhaltige Motivation in ihren Teams fördern möchten. Auch Trainer:innen und Dozierende im Bereich Führung sowie Interessierte aus Non-Profit-Organisationen profitieren von den praxisnahen Impulsen. \n \nLeitung: Dr. Klaus Ritter\n\nder Fortbildungs-Akademie
URL:https://klausritter.de/event/motivation-ziele/
LOCATION:Caritas Tagungszentrum\, Wintererstraße 17-19\, Freiburg\, 79104\, Deutschland
ATTACH;FMTTYPE=image/x-citrix-jpeg:https://klausritter.de/wp-content/uploads/2025/07/HQ_Motivation_Ziele.jpg
ORGANIZER;CN="Fortbildungs-Akademie des Deutschen Caritasverbandes":MAILTO:akademie@caritas.de
END:VEVENT
END:VCALENDAR