BEGIN:VCALENDAR
VERSION:2.0
PRODID:-//Dr. Klaus Ritter - ECPv6.15.20//NONSGML v1.0//EN
CALSCALE:GREGORIAN
METHOD:PUBLISH
X-ORIGINAL-URL:https://klausritter.de
X-WR-CALDESC:Veranstaltungen für Dr. Klaus Ritter
REFRESH-INTERVAL;VALUE=DURATION:PT1H
X-Robots-Tag:noindex
X-PUBLISHED-TTL:PT1H
BEGIN:VTIMEZONE
TZID:Europe/Berlin
BEGIN:DAYLIGHT
TZOFFSETFROM:+0100
TZOFFSETTO:+0200
TZNAME:CEST
DTSTART:20250330T010000
END:DAYLIGHT
BEGIN:STANDARD
TZOFFSETFROM:+0200
TZOFFSETTO:+0100
TZNAME:CET
DTSTART:20251026T010000
END:STANDARD
BEGIN:DAYLIGHT
TZOFFSETFROM:+0100
TZOFFSETTO:+0200
TZNAME:CEST
DTSTART:20260329T010000
END:DAYLIGHT
BEGIN:STANDARD
TZOFFSETFROM:+0200
TZOFFSETTO:+0100
TZNAME:CET
DTSTART:20261025T010000
END:STANDARD
BEGIN:DAYLIGHT
TZOFFSETFROM:+0100
TZOFFSETTO:+0200
TZNAME:CEST
DTSTART:20270328T010000
END:DAYLIGHT
BEGIN:STANDARD
TZOFFSETFROM:+0200
TZOFFSETTO:+0100
TZNAME:CET
DTSTART:20271031T010000
END:STANDARD
END:VTIMEZONE
BEGIN:VEVENT
DTSTART;TZID=Europe/Berlin:20261007T150000
DTEND;TZID=Europe/Berlin:20261009T123000
DTSTAMP:20260419T230349
CREATED:20250228T140130Z
LAST-MODIFIED:20260322T135835Z
UID:1698-1791385200-1791549000@klausritter.de
SUMMARY:Veränderung und Widerstand
DESCRIPTION:07.10.2026\, 15:00 Uhr bis 09.10.2026\, 12:30 Uhr\,\nCaritas Tagungszentrum Freiburg\nVeränderungen gehören zum Arbeitsalltag – doch nicht jeder geht gelassen damit um. Skepsis oder Ablehnung können Veränderungsprozesse ausbremsen. Doch Widerstände sind auch Hinweise darauf\, wo Menschen stehen und welche Bedürfnisse beachtet werden sollten. Wer Wandel erfolgreich gestalten will\, braucht kreative Ansätze und die Fähigkeit\, konstruktiv mit Widerständen umzugehen. \nIn diesem Seminar auf Basis der Themenzentrierten Interaktion (TZI) reflektieren Sie Ihre Rolle als Chairperson und lernen\, Veränderungsprozesse klar zu strukturieren und Beziehungsdynamiken aktiv zu gestalten. Sie erfahren\, wie Sie Störungen bewusst aufgreifen und ein Klima psychologischer Sicherheit schaffen\, das Offenheit und Veränderungsbereitschaft fördert. \nInhalte des Seminars:\n\nWiderstände verstehen und als Entwicklungschance nutzen\nKreativität als Veränderungsmotor: innovative Methoden für den Wandel\nVertrauen schaffen: die Bedeutung von psychologischer Sicherheit\nKommunikation im Wandel: Veränderungen überzeugend vermitteln\nSouveräner Umgang mit Widerständen und Störungen\nDas Vier-Faktoren-Modell als Analyse- und Planungsinstrument\n\nPraxisnahe Übungen\, Theorie-Impulse und Fallbeispiele unterstützen Sie dabei\, Veränderungsprozesse wirksam zu gestalten und Ihre Führungsrolle reflektiert wahrzunehmen. \nFür wen?\nDas Seminar richtet sich an Führungskräfte\, Team- und Projektleitende\, Change-Manager:innen sowie Personalverantwortliche\, die Veränderungsprozesse aktiv gestalten. Auch Berater:innen\, Coaches und Trainer:innen\, die Veränderung begleiten\, sowie Fachkräfte aus Non-Profit-Organisationen profitieren von den praxisnahen Methoden und Strategien. \nBaustein für die TZI-Ausbildung \nDas Seminar kann als Berufsspezifischer Aufbaukurs (A1) oder als Persönlichkeitskurs (P) für die TZI-Ausbildung anerkannt werden (9 Arbeitseinheiten). \n \nLeitung: Dr. Klaus Ritter
URL:https://klausritter.de/event/veraenderung-widerstand/
LOCATION:Caritas Tagungszentrum\, Wintererstraße 17-19\, Freiburg\, 79104\, Deutschland
ATTACH;FMTTYPE=image/x-citrix-jpeg:https://klausritter.de/wp-content/uploads/2025/07/HQ_Veraenderung_Widerstand.jpg
ORGANIZER;CN="Fortbildungs-Akademie des Deutschen Caritasverbandes":MAILTO:akademie@caritas.de
END:VEVENT
END:VCALENDAR