BEGIN:VCALENDAR
VERSION:2.0
PRODID:-//Dr. Klaus Ritter - ECPv6.15.20//NONSGML v1.0//EN
CALSCALE:GREGORIAN
METHOD:PUBLISH
X-ORIGINAL-URL:https://klausritter.de
X-WR-CALDESC:Veranstaltungen für Dr. Klaus Ritter
REFRESH-INTERVAL;VALUE=DURATION:PT1H
X-Robots-Tag:noindex
X-PUBLISHED-TTL:PT1H
BEGIN:VTIMEZONE
TZID:Europe/Berlin
BEGIN:DAYLIGHT
TZOFFSETFROM:+0100
TZOFFSETTO:+0200
TZNAME:CEST
DTSTART:20250330T010000
END:DAYLIGHT
BEGIN:STANDARD
TZOFFSETFROM:+0200
TZOFFSETTO:+0100
TZNAME:CET
DTSTART:20251026T010000
END:STANDARD
BEGIN:DAYLIGHT
TZOFFSETFROM:+0100
TZOFFSETTO:+0200
TZNAME:CEST
DTSTART:20260329T010000
END:DAYLIGHT
BEGIN:STANDARD
TZOFFSETFROM:+0200
TZOFFSETTO:+0100
TZNAME:CET
DTSTART:20261025T010000
END:STANDARD
BEGIN:DAYLIGHT
TZOFFSETFROM:+0100
TZOFFSETTO:+0200
TZNAME:CEST
DTSTART:20270328T010000
END:DAYLIGHT
BEGIN:STANDARD
TZOFFSETFROM:+0200
TZOFFSETTO:+0100
TZNAME:CET
DTSTART:20271031T010000
END:STANDARD
END:VTIMEZONE
BEGIN:VEVENT
DTSTART;TZID=Europe/Berlin:20261021T090000
DTEND;TZID=Europe/Berlin:20261021T123000
DTSTAMP:20260421T122736
CREATED:20240224T075701Z
LAST-MODIFIED:20260414T111334Z
UID:1202-1792573200-1792585800@klausritter.de
SUMMARY:Outlook intensiv - Mails
DESCRIPTION:Outlook benutzen viele schon lange. Es gibt aber zahlreiche große und kleine Funktionen für die Arbeit mit Mails\, die den Alltag deutlich leichter machen können. Deshalb geht es bei diesem IT-Workshop um viele nützliche Tipps – eben  „Outlook intensiv – Mails“. Es geht bei diesem Workshop um das „klassische“ Outlook\, nicht um das „neue“ Outlook. \nDie Anzahl der Teilnehmenden ist auf 15 Personen begrenzt. \nAlles wird Schritt für Schritt erklärt und Sie probieren es an ihrem Computer gleich aus. Vor dem Workshop erhalten Sie eine detaillierte Stichwort-Liste zu den Themen. So können Sie sich während des Workshops ihre Notizen dazuschreiben  und nach dem Workshop Gelerntes nochmals nachlesen. \nUm diese Themen geht es u. a.:\n\nAnsichtslayout ändern\nE-Mails zur Wiedervorlage\nKontakte aus Mails erstellen\nMit QuickSteps Abläufe automatisieren\nMails farblich markieren (bedingte Formatierung)\nMit unterschiedlichen Signaturen arbeiten\nAuf Mails mit Besprechungsanfragen antworten\nDifferenzierte Suche von Mails\nRegeln und Ordner für Mails erstellen\nSuchordner nutzen\nMit Schnellbausteinen Zeit sparen\nUnterhaltungen aufräumen\n\n \nLeitung: Dr. Klaus Ritter\n__________________ \nWorkshop am 21.10.2026\, 9:00 – 12:30 Uhr \n\nder Fortbildungs-Akademie
URL:https://klausritter.de/event/outlook-intensiv-mails/
LOCATION:Online-Workshop
ATTACH;FMTTYPE=image/x-citrix-jpeg:https://klausritter.de/wp-content/uploads/2025/07/HQ_IT_Outlook_Mail.jpg
ORGANIZER;CN="Fortbildungs-Akademie des Deutschen Caritasverbandes":MAILTO:akademie@caritas.de
END:VEVENT
END:VCALENDAR