BEGIN:VCALENDAR
VERSION:2.0
PRODID:-//Dr. Klaus Ritter - ECPv6.15.20//NONSGML v1.0//EN
CALSCALE:GREGORIAN
METHOD:PUBLISH
X-ORIGINAL-URL:https://klausritter.de
X-WR-CALDESC:Veranstaltungen für Dr. Klaus Ritter
REFRESH-INTERVAL;VALUE=DURATION:PT1H
X-Robots-Tag:noindex
X-PUBLISHED-TTL:PT1H
BEGIN:VTIMEZONE
TZID:Europe/Berlin
BEGIN:DAYLIGHT
TZOFFSETFROM:+0100
TZOFFSETTO:+0200
TZNAME:CEST
DTSTART:20250330T010000
END:DAYLIGHT
BEGIN:STANDARD
TZOFFSETFROM:+0200
TZOFFSETTO:+0100
TZNAME:CET
DTSTART:20251026T010000
END:STANDARD
BEGIN:DAYLIGHT
TZOFFSETFROM:+0100
TZOFFSETTO:+0200
TZNAME:CEST
DTSTART:20260329T010000
END:DAYLIGHT
BEGIN:STANDARD
TZOFFSETFROM:+0200
TZOFFSETTO:+0100
TZNAME:CET
DTSTART:20261025T010000
END:STANDARD
BEGIN:DAYLIGHT
TZOFFSETFROM:+0100
TZOFFSETTO:+0200
TZNAME:CEST
DTSTART:20270328T010000
END:DAYLIGHT
BEGIN:STANDARD
TZOFFSETFROM:+0200
TZOFFSETTO:+0100
TZNAME:CET
DTSTART:20271031T010000
END:STANDARD
END:VTIMEZONE
BEGIN:VEVENT
DTSTART;TZID=Europe/Berlin:20261026T150000
DTEND;TZID=Europe/Berlin:20261030T130000
DTSTAMP:20260419T230310
CREATED:20250725T060029Z
LAST-MODIFIED:20260415T124700Z
UID:1818-1793026800-1793365200@klausritter.de
SUMMARY:Lehren mit TZI - weil es Sinn macht!
DESCRIPTION:Freitag\, 03. Juli 2026 | 17:00 – 20:00 Uhr | Online \n  \nDiese Aufbauausbildung richtet sich an alle\, die Wissen praxisnah weitergeben –\netwa Lehrer:innen\, Dozent:innen\, Ausbilder:innen\, Trainer:innen oder Fachkräfte mit Lehrverantwortung. \n  \nTZI-Aufbauausbildung 2026–2028\nLehren mit TZI – weil es Sinn macht!\nDu hast das TZI-Grundstufenzertifikat in der Tasche und möchtest Deinen Weg als Lehrende*r vertiefen? Die TZI-Aufbauausbildung bietet Dir einen strukturierten und inspirierenden Rahmen\, um Deine Leitungskompetenz auszubauen\, Deine persönliche Haltung zu reflektieren und Lehr- und Lernprozesse lebendig\, wirksam und nachhaltig zu gestalten. \nWas Dich erwartet\nIn sechs aufeinander aufbauenden Modulen arbeitest Du in einer festen Ausbildungsgruppe\, ergänzt durch ein individuelles Praxisprojekt und kontinuierliche Peergruppenarbeit. Die Ausbildung ist praxisnah\, methodisch vielfältig und professionell begleitet. \nDu lernst\, wie Du: \n\nLernprozesse mit Sinn und Tiefe gestaltest\,\nschwierige Situationen souverän meisterst\,\nReflexion\, Beziehung und Wirksamkeit in Deinem Arbeitsfeld stärkst\,\nDeine Haltung als Lehrperson weiterentwickelst.\n\nEin erfahrenes\, multiprofessionelles Leitungsteam unterstützt Dich kompetent auf Deinem Weg. Die Ausbildung schließt mit dem TZI-Diplom ab. \n\nDie Module im Überblick\n Download: TZI-Aufbauausbildung_2026-2028_Flyer\nModul 1 – Haltung zeigen\, Beziehung initiieren\nLehren als Beziehungskunst\n26. – 30. Oktober 2026 | Haus Maria Lindenberg\, St. Peter\nLeitung: Shirley Reinhaus und Dr. Klaus Ritter \nModul 2 – Themen\, die zünden – Methoden\, die wirken\nLebendig Lehr- und Lernprozesse gestalten\n15. – 17. Januar 2027 | Haus St. Benedikt\, Freiburg\nLeitung: Dr. Klaus Ritter und Elke Stenger \nModul 3 – Strukturen erkennen – Freiräume nutzen\nLehren im Spannungsfeld von Institution\, Haltung und Verantwortung\n2. – 4. April 2027 | Haus St. Benedikt\, Freiburg\nLeitung: Shirley Reinhaus und Ernst Schrade \nModul 4 – Gelassen sein – wirksam handeln\nMotivation stärken und souverän durch schwierige Zeiten führen\n16. – 18. Juli 2027 | Haus St. Benedikt\, Freiburg\nLeitung: Ernst Schrade und Elke Stenger \nModul 5 – Verstehen\, was wirkt – begleiten\, was wächst\nMit TZI im eigenen Arbeitsfeld Prozesse verstehen und beeinflussen\n22. – 24. Oktober 2027 | Haus St. Benedikt\, Freiburg\nLeitung: Shirley Reinhaus und Elke Stenger \nModul 6 – Würdigen\, was war – schwungvoll weitergehen\nGemeinsam zurückblicken\, Übergänge feiern\, Zukunft denken\n28. April – 1. Mai 2028 | Haus St. Benedikt\, Freiburg\nLeitung: Dr. Klaus Ritter und Ernst Schrade \n\nLeitungsteam der Ausbildung\nShirley Reinhaus\nDipl. Psychologin\, psychologische Psychotherapeutin\, Ehe-\, Familien- und Lebensberaterin\, TZI-Lehrbeauftragte \nDr. Klaus Ritter\nDipl. Theologe\, Dozent\, Mediator\, Organisationsberater\, TZI-Lehrbeauftragter \nErnst Schrade\nDipl. Pädagoge\, Lehrsupervisor (DGSv)\, psychologischer Berater\, Fortbildner mit Schwerpunkt Kommunikation\, Beratung und Konfliktbearbeitung\, TZI-Lehrbeauftragter \nElke Stenger\nDipl. Ingenieurin\, Fachleiterin am Seminar Karlsruhe\, Supervisorin (DGSv)\, TZI-Lehrbeauftragte \n\nTermine & Orte\nDauer: Oktober 2026 – Mai 2028 \nBeginn jedes Modul: 15:00 Uhr (Begrüßungskaffee ab 14:30 Uhr) \nEnde jedes Modul: 13:00 Uhr mit Mittagessen \nVeranstaltungsorte: \nModul 1: Haus Maria Lindenberg\, St. Peter \nModule 2–6: Haus St. Benedikt\, Freiburg \n\nKosten\nTeilnahmegebühr: 3.450 EUR (Ratenzahlung möglich) \nÜbernachtung & Verpflegung: \nHaus Maria Lindenberg (Modul 1): \nPreis wird noch bekannt gegeben \nHaus St. Benedikt (Module 2-6): \nEZ mit Du/WC & Vollverpflegung: 79 EUR/Tag\nTagesgast mit Verpflegung: 32 EUR/Tag \n\nKostenloser Info- und Entscheidungs-Workshop\n \nFreitag\, 03. Juli 2026 | 17:00 – 20:00 Uhr | Online\nVerstehen\, worum es geht – spüren\, ob es passt\nInhalte\, Menschen\, Motivation – lerne das Team kennen\, kläre Deine Fragen und finde heraus\, ob die TZI-Aufbauausbildung zu Dir passt. \nZur Anmeldung für den Info- und Entscheidungs-Workshop am 03. Juli 2026 \n  \n\nAnmeldung zur TZI-Aufbauausbildung\n„Lehren mit TZI\, weil es Sinn macht!“\nAnmeldeschluss: 17. Juli 2026 \n\n\n  \n\n\n\nin Präsenz\n \n\nAnrede\nBitte wählenFrauHerrDiversKeine Angabe\n \n\nTitel\n\n \n\nVorname *\n\n \n\nNachname *\n\n \n\nStraße und Hausnummer *\n\n \n\nPostleitzahl *\n\n \n\nOrt *\n\n \n\nLand\nBitte wählenDeutschlandSchweizÖsterreich\n \n\nOrganisation\n\n \n\nFunktion / Rolle\n\n \n\nE-Mail-Adresse *\n\n \n\nTelefon *\n\n \n\nGeburtsdatum *\n\n \n\nNachricht\n\n \nÜbernachtung und Verpflegung\n\nIch möchte im Tagungshaus übernachten und essen (Einzelzimmer + Vollverpflegung)Ich möchte im Tagungshaus nur essen\, nicht übernachten (Verpflegung)\n \nFahrgemeinschaften\n\nOptional: Wenn Sie eine Fahrgemeinschaft bilden möchten\, können Sie der Weitergabe Ihrer Kontaktdaten an andere Teilnehmende zustimmen.\n \nIch bin damit einverstanden\, dass mein Name\, meine E-Mail-Adresse und mein Wohnort/meine PLZ zum Zweck der Bildung von Fahrgemeinschaften an andere Teilnehmende weitergegeben werden. Diese Einwilligung ist freiwillig und kann jederzeit mit Wirkung für die Zukunft widerrufen werden.\n \nDatenschutz\n\nIch habe die Datenschutzerklärung zur Kenntnis genommen und stimme der Verarbeitung meiner Angaben zur Bearbeitung meiner Anmeldung zu.\n \n       \n \n\n ×
URL:https://klausritter.de/event/tzi-aufbau-lehren/
LOCATION:Haus St. Benedikt\, Freiburg-Günterstal\, Riedbergstraße 3\, Freiburg\, Baden-Württemberg\, 79100\, Germany
ATTACH;FMTTYPE=image/x-citrix-jpeg:https://klausritter.de/wp-content/uploads/2025/07/HQ_TZI-Aufbausbildung.jpg
ORGANIZER;CN="Ruth Cohn Institut - Region Dreyeckland":MAILTO:rci-dreyeckland@ruth-cohn-institute.org
END:VEVENT
END:VCALENDAR