BEGIN:VCALENDAR
VERSION:2.0
PRODID:-//Dr. Klaus Ritter - ECPv6.15.20//NONSGML v1.0//EN
CALSCALE:GREGORIAN
METHOD:PUBLISH
X-WR-CALNAME:Dr. Klaus Ritter
X-ORIGINAL-URL:https://klausritter.de
X-WR-CALDESC:Veranstaltungen für Dr. Klaus Ritter
REFRESH-INTERVAL;VALUE=DURATION:PT1H
X-Robots-Tag:noindex
X-PUBLISHED-TTL:PT1H
BEGIN:VTIMEZONE
TZID:Europe/Berlin
BEGIN:DAYLIGHT
TZOFFSETFROM:+0100
TZOFFSETTO:+0200
TZNAME:CEST
DTSTART:20250330T010000
END:DAYLIGHT
BEGIN:STANDARD
TZOFFSETFROM:+0200
TZOFFSETTO:+0100
TZNAME:CET
DTSTART:20251026T010000
END:STANDARD
BEGIN:DAYLIGHT
TZOFFSETFROM:+0100
TZOFFSETTO:+0200
TZNAME:CEST
DTSTART:20260329T010000
END:DAYLIGHT
BEGIN:STANDARD
TZOFFSETFROM:+0200
TZOFFSETTO:+0100
TZNAME:CET
DTSTART:20261025T010000
END:STANDARD
BEGIN:DAYLIGHT
TZOFFSETFROM:+0100
TZOFFSETTO:+0200
TZNAME:CEST
DTSTART:20270328T010000
END:DAYLIGHT
BEGIN:STANDARD
TZOFFSETFROM:+0200
TZOFFSETTO:+0100
TZNAME:CET
DTSTART:20271031T010000
END:STANDARD
END:VTIMEZONE
BEGIN:VEVENT
DTSTART;TZID=Europe/Berlin:20261130T143000
DTEND;TZID=Europe/Berlin:20261203T130000
DTSTAMP:20260421T121602
CREATED:20240416T175253Z
LAST-MODIFIED:20260324T053428Z
UID:1246-1796049000-1796302800@klausritter.de
SUMMARY:Selbstbewusst und mit System leiten
DESCRIPTION:TZI-Kurs mit drei Abschnitten und Online-Gruppensupervisionen\nDie Themenzentrierte Interaktion (TZI) zählt zu den bedeutendsten und am häufigsten angewendeten Methoden in der professionellen Arbeit mit Teams und Gruppen. Sie kombiniert klare Werte mit einem methodischen Ansatz zur Gestaltung von Arbeits- und Gruppenprozessen. Der Erfolg von Aufgaben und Lernprozessen hängt maßgeblich von der persönlichen Beteiligung der Teammitglieder und dem sozialen Umfeld ab. TZI bietet gezielte methodische Instrumente\, um diese Aspekte systematisch zu berücksichtigen und fördert Kooperation\, während sie rivalisierende Tendenzen abschwächt. Ein respektvoller Umgang mit Menschen und effektive Arbeitsweisen innerhalb des Kontextes stehen im Mittelpunkt der TZI. Daher ist sie ein äußerst wertvoller Ansatz für die Arbeit mit Gruppen\, Teams und Lerngruppen sowie für die Mitarbeiter:innenführung in verschiedenen Bereichen wie Konferenz- und Gremienarbeit\, Weiterbildung und Schule sowie bei der Begleitung von Gruppen und Initiativen\, einschließlich der Arbeit mit Freiwilligen. \nIn diesem Kurs wird die TZI als systemisches Leitungsmodell vorgestellt und vertieft. Die Teilnehmenden setzen sich mit der Haltung und den Methoden der TZI auseinander und reflektieren ihre Rolle als Führungskraft\, Teilnehmer:in oder Leiter:in von Gruppen oder Teams. Sie üben interaktive\, sach- und personenbezogene Interventionen\, um ihre berufliche Identität und ihre fachlichen sowie methodischen Fähigkeiten weiterzuentwickeln. \nAbschnitt 1: Grundlegende Haltung und Methoden kennenlernen \nDie Werte und das Menschenbild der TZI: Den Kern verstehen\nMethoden der TZI und ihre konkrete Anwendung im Alltag: mit dem Vier-Faktoren-Modell reflektieren und planen\nBlick nach innen und außen: Bewusstsein schärfen\nPersönliche Haltung und Verhalten: Authentisch und wirkungsvoll sein \nAbschnitt 2: Als Person und mit Methodik effektiv leiten\nDas Leitungskonzept der TZI: Wegweiser für gelingende Leitung\nWerkzeuge für die Leitung: Strukturen nutzen\, mit Themen umgehen\, individuelle und soziale Prozesse gestalten\nSelbstleitung und Führung anderer: Den Weg vorangehen\, andere mitnehmen \nAbschnitt 3: Gruppendynamik aktiv gestalten und Konflikte lösen\nDynamik in Gruppen: Entwicklungsphänomene kennen und Menschen in ihrer Arbeitsfähigkeit stärken\nWahrnehmung und Feedback: Klar kommunizieren\, um Veränderungen zu ermöglichen\nDie Aufgaben der Leitung in Gruppenprozessen\, bei Störungen und Konflikten: intervenieren\, gestalten und unterstützen\nArbeitsmethoden \nWir werden verschiedene Arbeitsweisen kennenlernen\, die auf den Prinzipien der Themenzentrierten Interaktion basieren. Diese werden dann auf Ihre individuelle berufliche Situation übertragen. Dazu gehören Einzelarbeit\, Gruppenarbeit und Plenumsdiskussionen\, Theorie-Inputs\, strukturierter Erfahrungsaustausch und praktische Übungen. Sie haben außerdem die Möglichkeit\, an eigenen Fallbeispielen zu arbeiten. \nOrganisation des Lernprozesses\nDer Kurs ist in drei Abschnitte gegliedert\, die insgesamt 10 Kurstage umfassen. Zusätzlich finden zwei Online-Supervisionsgruppentreffen statt\, die den Kurs begleiten.\nDie Anmeldung gilt für den gesamten Kurs; eine separate Buchung einzelner Kursabschnitte ist nicht möglich. \nTermine und Ort\nAbschnitt 1: Montag\, 30. November bis Donnerstag\, 03. Dezember 2026 von 14:30 Uhr bis 12:00 Uhr\nAbschnitt 2: Montag\, 08. bis Mittwoch\, 10. März 2027 von 14:30 Uhr bis 12:00 Uhr\nAbschnitt 3: Montag\, 14. bis Mittwoch\, 16. Juni 2027 von 14:30 Uhr bis 12:00 Uhr\nAlle Kursabschnitte finden im Caritas Tagungszentrum in Freiburg statt. \nDie Fortbildung kann als ein Methodenkurs  (M1 – 18 Arbeitseinheiten) und als ein Persönlichkeitskurs (P – 18 Arbeitseinheiten) für die TZI-Ausbildung anerkannt werden. \nBausteine für die TZI-Ausbildung\nDie Fortbildung kann als ein Methodenkurs  (M1 – 18 Arbeitseinheiten) und als ein Persönlichkeitskurs (P – 18 Arbeitseinheiten) für die TZI-Ausbildung anerkannt werden. \nLeitung\n \nShirley Reinhaus\nPsychologin\, Psych. Psychotherapeutin\, Ehe-\, Familien- und Lebensberaterin\,\nTZI-Lehrbeauftragte Ruth-Cohn-Institut International \n \nDr. Klaus Ritter\nTheologe\, freiberuflicher Dozent\, Moderator\, zertifizierter Mediator und Organisationsberater\,\nTZI-Lehrbeauftragter Ruth-Cohn-Institut International \n______________________________________________\nWeitere Infos und Anmeldung bei der Fortbildungs-Akademie
URL:https://klausritter.de/event/gruppen-und-teams/
LOCATION:Caritas Tagungszentrum\, Wintererstraße 17-19\, Freiburg\, 79104\, Deutschland
ATTACH;FMTTYPE=image/x-citrix-jpeg:https://klausritter.de/wp-content/uploads/2025/07/HQ_Gruppen__Teams.jpg
ORGANIZER;CN="Fortbildungs-Akademie des Deutschen Caritasverbandes":MAILTO:akademie@caritas.de
END:VEVENT
BEGIN:VEVENT
DTSTART;TZID=Europe/Berlin:20261204T150000
DTEND;TZID=Europe/Berlin:20261206T130000
DTSTAMP:20260421T121602
CREATED:20260411T132311Z
LAST-MODIFIED:20260416T195437Z
UID:2202-1796396400-1796562000@klausritter.de
SUMMARY:Präsentations-methoden mit wow-Effekt
DESCRIPTION:Freitag\, 04.12.2026\, 15:00 Uhr – Sonntag\, 06.12.2026\, 13:00 Uhr\,\nHaus St. Benedikt\, Freiburg\nPräsentationen und Inputs gehören zum Berufsalltag vieler Führungs-\, Fach- und Lehrkräfte. Inhalte kommen dann bei den Menschen an\, wenn die Themen klar formuliert\, die Inhalte auf das notwendige Maß reduziert\, ansprechend präsentiert und zielorientiert bearbeitet werden. \nWie kann der eigene Vortrag durch Präsentationsmethoden so unterstützt werden\, dass die Aufmerksamkeit erhalten bleibt und Inhalte im Gedächtnis bleiben? \nSie lernen (neue) analoge Präsentationsideen kennen\, die interessante Effekte und überraschende Elemente haben. Es wird auch darum gehen\, wie Sie die analogen Methoden verändern können\, damit sie auch im digitalen Raum wirken. \nIm Seminar werden darüber hinaus zahlreiche Tipps erprobt\, wie Sie PowerPoint eleganter und effektiver nutzen können (Bringen Sie ihr Notebook mit). Außerdem lernen Sie\, lesbarer auf Flipcharts zu schreiben und diese ansprechender zu gestalten. \n \nLeitung: Dr. Klaus Ritter\nTeilnahmebeitrag: 390 EUR \nOrt: Haus St. Benedikt\, Riedbergstraße 3\,  79100 Freiburg \n__________________________________ \nAnmeldung\nAnmeldeschluss: 01.09.2026 \n\n\n  \n\n\n\nin Präsenz\n \n\nAnrede\nBitte wählenFrauHerrDiversKeine Angabe\n \n\nTitel\n\n \n\nVorname *\n\n \n\nNachname *\n\n \n\nStraße und Hausnummer *\n\n \n\nPostleitzahl *\n\n \n\nOrt *\n\n \n\nLand\nBitte wählenDeutschlandSchweizÖsterreich\n \n\nOrganisation\n\n \n\nFunktion / Rolle\n\n \n\nE-Mail-Adresse *\n\n \n\nTelefon *\n\n \n\nGeburtsdatum *\n\n \n\nNachricht\n\n \nÜbernachtung und Verpflegung\n\nIch möchte im Tagungshaus übernachten und essen (Einzelzimmer + Vollverpflegung)Ich möchte im Tagungshaus nur essen\, nicht übernachten (Verpflegung)\n \nFahrgemeinschaften\n\nOptional: Wenn Sie eine Fahrgemeinschaft bilden möchten\, können Sie der Weitergabe Ihrer Kontaktdaten an andere Teilnehmende zustimmen.\n \nIch bin damit einverstanden\, dass mein Name\, meine E-Mail-Adresse und mein Wohnort/meine PLZ zum Zweck der Bildung von Fahrgemeinschaften an andere Teilnehmende weitergegeben werden. Diese Einwilligung ist freiwillig und kann jederzeit mit Wirkung für die Zukunft widerrufen werden.\n \nDatenschutz\n\nIch habe die Datenschutzerklärung zur Kenntnis genommen und stimme der Verarbeitung meiner Angaben zur Bearbeitung meiner Anmeldung zu.\n \n       \n \n\n ×
URL:https://klausritter.de/event/praesentationsmethoden-mit-wow-effekt/
LOCATION:Haus St. Benedikt\, Freiburg-Günterstal\, Riedbergstraße 3\, Freiburg\, Baden-Württemberg\, 79100\, Germany
ATTACH;FMTTYPE=image/x-png:https://klausritter.de/wp-content/uploads/2026/04/Praesentationsmethoden_WE2026.png
END:VEVENT
BEGIN:VEVENT
DTSTART;TZID=Europe/Berlin:20261211T150000
DTEND;TZID=Europe/Berlin:20261211T170000
DTSTAMP:20260421T121602
CREATED:20251219T070027Z
LAST-MODIFIED:20260415T130955Z
UID:1627-1797001200-1797008400@klausritter.de
SUMMARY:Online-Infoveranstaltung TZI-Jahreskurs 2027-2028
DESCRIPTION:Bei dieser Online-Info-Veranstaltung gibt es die Gelegenheit\, Informationen über die Inhalte und Arbeitsweisen des TZI-Jahreskurses „Lebendig leiten mit Haltung und Methode“ 2027 – 2028 zu erhalten. Sie können dort Ihre Fragen klären\, lernen die Kursleitung und andere interessierte Teilnehmende kennen. \nDie Veranstaltung ist kostenlos und unverbindlich. Das Treffen findet auf der Plattform Zoom statt\, der Link wird Ihnen nach Anmeldung rechtzeitig vor der Veranstaltung zugeschickt. \nHier finden Sie weitere Informationen zum TZI-Jahreskurs 2027-2028\n___________________________________________________ \nAnmeldung zur Infoveranstaltung des TZI-Jahreskurses 2027-2028\n\n\n  \n\n\n\nOnline\n \n\nAnrede\nBitte wählenFrauHerrDiversKeine Angabe\n \n\nTitel\n\n \n\nVorname *\n\n \n\nNachname *\n\n \n\nStraße und Hausnummer *\n\n \n\nPostleitzahl *\n\n \n\nOrt *\n\n \n\nLand\nBitte wählenDeutschlandSchweizÖsterreich\n \n\nOrganisation\n\n \n\nFunktion / Rolle\n\n \n\nE-Mail-Adresse *\n\n \n\nTelefon *\n\n \n\nNachricht\n\n \nDatenschutz\n\nIch habe die Datenschutzerklärung zur Kenntnis genommen und stimme der Verarbeitung meiner Angaben zur Bearbeitung meiner Anmeldung zu.\n \n       \n \n\n ×
URL:https://klausritter.de/event/tzi-jk-2027-2028-info/
LOCATION:Online-Workshop
ATTACH;FMTTYPE=image/x-citrix-jpeg:https://klausritter.de/wp-content/uploads/2025/01/TZI-Jahreskurs_2027-2028_Info.jpg
END:VEVENT
END:VCALENDAR